BEGIN:VCALENDAR
VERSION:2.0
PRODID:-//Central Church Cambridge - ECPv6.15.20//NONSGML v1.0//EN
CALSCALE:GREGORIAN
METHOD:PUBLISH
X-WR-CALNAME:Central Church Cambridge
X-ORIGINAL-URL:https://centralchurchcambridge.ca
X-WR-CALDESC:Events for Central Church Cambridge
REFRESH-INTERVAL;VALUE=DURATION:PT1H
X-Robots-Tag:noindex
X-PUBLISHED-TTL:PT1H
BEGIN:VTIMEZONE
TZID:America/Toronto
BEGIN:DAYLIGHT
TZOFFSETFROM:-0500
TZOFFSETTO:-0400
TZNAME:EDT
DTSTART:20250309T070000
END:DAYLIGHT
BEGIN:STANDARD
TZOFFSETFROM:-0400
TZOFFSETTO:-0500
TZNAME:EST
DTSTART:20251102T060000
END:STANDARD
BEGIN:DAYLIGHT
TZOFFSETFROM:-0500
TZOFFSETTO:-0400
TZNAME:EDT
DTSTART:20260308T070000
END:DAYLIGHT
BEGIN:STANDARD
TZOFFSETFROM:-0400
TZOFFSETTO:-0500
TZNAME:EST
DTSTART:20261101T060000
END:STANDARD
BEGIN:DAYLIGHT
TZOFFSETFROM:-0500
TZOFFSETTO:-0400
TZNAME:EDT
DTSTART:20270314T070000
END:DAYLIGHT
BEGIN:STANDARD
TZOFFSETFROM:-0400
TZOFFSETTO:-0500
TZNAME:EST
DTSTART:20271107T060000
END:STANDARD
END:VTIMEZONE
BEGIN:VEVENT
DTSTART;TZID=America/Toronto:20260522T190000
DTEND;TZID=America/Toronto:20260524T120000
DTSTAMP:20260420T111601
CREATED:20260311T020456Z
LAST-MODIFIED:20260419T181908Z
UID:10000650-1779476400-1779624000@centralchurchcambridge.ca
SUMMARY:Camp Kintail Men's Retreat
DESCRIPTION:Men’s Retreat at Camp Kintail 🏕️ \nJoin us for a weekend of fellowship\, meaningful conversation\, and time to recharge together at Camp Kintail. It’s also a great opportunity to lend a hand as we help prepare the camp for the upcoming summer season. \nExpect great food\, good company\, and the satisfaction of serving together in a beautiful lakeside setting. Whether you come to reconnect\, meet new friends\, or simply enjoy a weekend away\, this retreat is a chance to grow in community and purpose. \nWe hope you’ll join us! \n\n\nWhy Kintail
URL:https://centralchurchcambridge.ca/event/camp-kintail-mens-retreat/
LOCATION:Camp Kintail\, RR3\, 85153 Bluewater Hwy\, Goderich\, Ontario\, N7A 3X9\, Canada
CATEGORIES:Rugged Hands
ATTACH;FMTTYPE=image/jpeg:https://cpcchurchimages.s3.amazonaws.com/wp-content/uploads/2026/03/10220428/Kintail.jpg
ORGANIZER;CN="Scott McHardy":MAILTO:ruggedhands@cpcmail.ca
GEO:43.9424621;-81.7011606
X-APPLE-STRUCTURED-LOCATION;VALUE=URI;X-ADDRESS=Camp Kintail RR3 85153 Bluewater Hwy Goderich Ontario N7A 3X9 Canada;X-APPLE-RADIUS=500;X-TITLE=RR3\, 85153 Bluewater Hwy:geo:-81.7011606,43.9424621
END:VEVENT
END:VCALENDAR