BEGIN:VCALENDAR
VERSION:2.0
PRODID:-//Central Church Cambridge - ECPv6.15.20//NONSGML v1.0//EN
CALSCALE:GREGORIAN
METHOD:PUBLISH
X-ORIGINAL-URL:https://centralchurchcambridge.ca
X-WR-CALDESC:Events for Central Church Cambridge
REFRESH-INTERVAL;VALUE=DURATION:PT1H
X-Robots-Tag:noindex
X-PUBLISHED-TTL:PT1H
BEGIN:VTIMEZONE
TZID:America/Toronto
BEGIN:DAYLIGHT
TZOFFSETFROM:-0500
TZOFFSETTO:-0400
TZNAME:EDT
DTSTART:20250309T070000
END:DAYLIGHT
BEGIN:STANDARD
TZOFFSETFROM:-0400
TZOFFSETTO:-0500
TZNAME:EST
DTSTART:20251102T060000
END:STANDARD
BEGIN:DAYLIGHT
TZOFFSETFROM:-0500
TZOFFSETTO:-0400
TZNAME:EDT
DTSTART:20260308T070000
END:DAYLIGHT
BEGIN:STANDARD
TZOFFSETFROM:-0400
TZOFFSETTO:-0500
TZNAME:EST
DTSTART:20261101T060000
END:STANDARD
BEGIN:DAYLIGHT
TZOFFSETFROM:-0500
TZOFFSETTO:-0400
TZNAME:EDT
DTSTART:20270314T070000
END:DAYLIGHT
BEGIN:STANDARD
TZOFFSETFROM:-0400
TZOFFSETTO:-0500
TZNAME:EST
DTSTART:20271107T060000
END:STANDARD
END:VTIMEZONE
BEGIN:VEVENT
DTSTART;TZID=America/Toronto:20260705T100000
DTEND;TZID=America/Toronto:20260705T110000
DTSTAMP:20260419T131542
CREATED:20260219T144352Z
LAST-MODIFIED:20260419T132556Z
UID:10000459-1783245600-1783249200@centralchurchcambridge.ca
SUMMARY:Service of Worship
DESCRIPTION:Please join us for our Service of Worship. Each Sunday\, we come together to celebrate the love of God and to learn about living a Christian life in our modern World.
URL:https://centralchurchcambridge.ca/event/service-of-worship-21/
LOCATION:Central Presbyterian Church\, 7 Queens Square\, Cambridge\, ON N1S 1H4\, Canada
CATEGORIES:Google
END:VEVENT
BEGIN:VEVENT
DTSTART;TZID=America/Toronto:20260707T143000
DTEND;TZID=America/Toronto:20260707T163000
DTSTAMP:20260419T131542
CREATED:20260219T144353Z
LAST-MODIFIED:20260419T132557Z
UID:10000460-1783434600-1783441800@centralchurchcambridge.ca
SUMMARY:Prayer Group- Parlour
DESCRIPTION:Everyone is welcome to join us in the parlour for an evening of prayer.
URL:https://centralchurchcambridge.ca/event/prayer-group-parlour-22/
LOCATION:Central Presbyterian Church\, 7 Queens Square\, Cambridge\, ON N1S 1H4\, Canada\, Central Church-Main Floor-Parlour (20)
CATEGORIES:Google
END:VEVENT
BEGIN:VEVENT
DTSTART;TZID=America/Toronto:20260707T190000
DTEND;TZID=America/Toronto:20260707T210000
DTSTAMP:20260419T131542
CREATED:20260219T144355Z
LAST-MODIFIED:20260419T132558Z
UID:10000461-1783450800-1783458000@centralchurchcambridge.ca
SUMMARY:Praise Team (Sanctuary)
DESCRIPTION:
URL:https://centralchurchcambridge.ca/event/praise-team-sanctuary-21/
CATEGORIES:Google
END:VEVENT
BEGIN:VEVENT
DTSTART;TZID=America/Toronto:20260708T190000
DTEND;TZID=America/Toronto:20260708T200000
DTSTAMP:20260419T131542
CREATED:20260325T112332Z
LAST-MODIFIED:20260419T132558Z
UID:10000690-1783537200-1783540800@centralchurchcambridge.ca
SUMMARY:Search Team
DESCRIPTION:
URL:https://centralchurchcambridge.ca/event/search-team-2/
LOCATION:Central Church-Main Floor-Parlour (20)
CATEGORIES:Google
END:VEVENT
BEGIN:VEVENT
DTSTART;TZID=America/Toronto:20260712T100000
DTEND;TZID=America/Toronto:20260712T110000
DTSTAMP:20260419T131542
CREATED:20260219T144359Z
LAST-MODIFIED:20260419T132559Z
UID:10000462-1783850400-1783854000@centralchurchcambridge.ca
SUMMARY:Service of Worship
DESCRIPTION:Please join us for our Service of Worship. Each Sunday\, we come together to celebrate the love of God and to learn about living a Christian life in our modern World.
URL:https://centralchurchcambridge.ca/event/service-of-worship-22/
LOCATION:Central Presbyterian Church\, 7 Queens Square\, Cambridge\, ON N1S 1H4\, Canada
CATEGORIES:Google
END:VEVENT
BEGIN:VEVENT
DTSTART;TZID=America/Toronto:20260714T093000
DTEND;TZID=America/Toronto:20260714T120000
DTSTAMP:20260419T131542
CREATED:20260219T144401Z
LAST-MODIFIED:20260419T132559Z
UID:10000463-1784021400-1784030400@centralchurchcambridge.ca
SUMMARY:Communications Team
DESCRIPTION:
URL:https://centralchurchcambridge.ca/event/communications-team-11/
LOCATION:Central Church-Main Floor-Parlour (20)
CATEGORIES:Google
END:VEVENT
BEGIN:VEVENT
DTSTART;TZID=America/Toronto:20260714T143000
DTEND;TZID=America/Toronto:20260714T163000
DTSTAMP:20260419T131542
CREATED:20260219T144402Z
LAST-MODIFIED:20260419T132600Z
UID:10000464-1784039400-1784046600@centralchurchcambridge.ca
SUMMARY:Prayer Group- Parlour
DESCRIPTION:Everyone is welcome to join us in the parlour for an evening of prayer.
URL:https://centralchurchcambridge.ca/event/prayer-group-parlour-23/
LOCATION:Central Presbyterian Church\, 7 Queens Square\, Cambridge\, ON N1S 1H4\, Canada\, Central Church-Main Floor-Parlour (20)
CATEGORIES:Google
END:VEVENT
BEGIN:VEVENT
DTSTART;TZID=America/Toronto:20260714T190000
DTEND;TZID=America/Toronto:20260714T200000
DTSTAMP:20260419T131542
CREATED:20260219T144404Z
LAST-MODIFIED:20260419T132601Z
UID:10000465-1784055600-1784059200@centralchurchcambridge.ca
SUMMARY:Missions Meeting
DESCRIPTION:Denise McC
URL:https://centralchurchcambridge.ca/event/missions-meeting-5/
LOCATION:Central Church-Main Floor-Parlour (20)
CATEGORIES:Google
END:VEVENT
BEGIN:VEVENT
DTSTART;TZID=America/Toronto:20260714T190000
DTEND;TZID=America/Toronto:20260714T210000
DTSTAMP:20260419T131542
CREATED:20260219T144427Z
LAST-MODIFIED:20260419T132602Z
UID:10000466-1784055600-1784062800@centralchurchcambridge.ca
SUMMARY:Praise Team (Sanctuary)
DESCRIPTION:
URL:https://centralchurchcambridge.ca/event/praise-team-sanctuary-22/
CATEGORIES:Google
END:VEVENT
BEGIN:VEVENT
DTSTART;TZID=America/Toronto:20260719T100000
DTEND;TZID=America/Toronto:20260719T110000
DTSTAMP:20260419T131542
CREATED:20260219T144429Z
LAST-MODIFIED:20260419T132602Z
UID:10000467-1784455200-1784458800@centralchurchcambridge.ca
SUMMARY:Service of Worship
DESCRIPTION:Please join us for our Service of Worship. Each Sunday\, we come together to celebrate the love of God and to learn about living a Christian life in our modern World.
URL:https://centralchurchcambridge.ca/event/service-of-worship-23/
LOCATION:Central Presbyterian Church\, 7 Queens Square\, Cambridge\, ON N1S 1H4\, Canada
CATEGORIES:Google
END:VEVENT
BEGIN:VEVENT
DTSTART;VALUE=DATE:20260720
DTEND;VALUE=DATE:20260726
DTSTAMP:20260419T131542
CREATED:20260312T215037Z
LAST-MODIFIED:20260419T132603Z
UID:10000658-1784512800-1784944799@centralchurchcambridge.ca
SUMMARY:VBS
DESCRIPTION:
URL:https://centralchurchcambridge.ca/event/vbs/
CATEGORIES:Google
END:VEVENT
BEGIN:VEVENT
DTSTART;TZID=America/Toronto:20260720T090000
DTEND;TZID=America/Toronto:20260724T120000
DTSTAMP:20260419T131542
CREATED:20260211T142606Z
LAST-MODIFIED:20260211T144022Z
UID:10000304-1784538000-1784894400@centralchurchcambridge.ca
SUMMARY:Vacation Bible Camp
DESCRIPTION:Step through the mist into Rainforest Falls\, overflowing with wild waterfalls\, towering trees and colorful creatures. \nBeneath a canopy of chattering birds and howling monkeys\, kids plunge into a life-long adventure\, discovering the nature of God\, and exploring what it means to be rooted in relationship with their creator\, a safe place in life’s storms. \nRegistration is open for children from JK to grade 6. The program will run Monday July 20 to Friday July 24 from 9:00 am-12:00 pm. \n			\n				Registration Form
URL:https://centralchurchcambridge.ca/event/vacation-bible-camp/
LOCATION:Central Presbyterian Church\, 7 Queen's Square\, Cambridge\, Ontario\, N1S 1H4\, Canada
CATEGORIES:Children's Ministry
ATTACH;FMTTYPE=image/jpeg:https://cpcchurchimages.s3.amazonaws.com/wp-content/uploads/2026/02/09232649/SaveTheDate.jpg
ORGANIZER;CN="Elsie Botha":MAILTO:childrensministry@cpcmail.ca
GEO:43.3616211;-80.3144276
X-APPLE-STRUCTURED-LOCATION;VALUE=URI;X-ADDRESS=Central Presbyterian Church 7 Queen's Square Cambridge Ontario N1S 1H4 Canada;X-APPLE-RADIUS=500;X-TITLE=7 Queen's Square:geo:-80.3144276,43.3616211
END:VEVENT
BEGIN:VEVENT
DTSTART;TZID=America/Toronto:20260721T143000
DTEND;TZID=America/Toronto:20260721T163000
DTSTAMP:20260419T131542
CREATED:20260219T144431Z
LAST-MODIFIED:20260419T132604Z
UID:10000468-1784644200-1784651400@centralchurchcambridge.ca
SUMMARY:Prayer Group- Parlour
DESCRIPTION:Everyone is welcome to join us in the parlour for an evening of prayer.
URL:https://centralchurchcambridge.ca/event/prayer-group-parlour-24/
LOCATION:Central Presbyterian Church\, 7 Queens Square\, Cambridge\, ON N1S 1H4\, Canada\, Central Church-Main Floor-Parlour (20)
CATEGORIES:Google
END:VEVENT
BEGIN:VEVENT
DTSTART;TZID=America/Toronto:20260721T190000
DTEND;TZID=America/Toronto:20260721T210000
DTSTAMP:20260419T131542
CREATED:20260219T144433Z
LAST-MODIFIED:20260419T132604Z
UID:10000469-1784660400-1784667600@centralchurchcambridge.ca
SUMMARY:Praise Team (Sanctuary)
DESCRIPTION:
URL:https://centralchurchcambridge.ca/event/praise-team-sanctuary-23/
CATEGORIES:Google
END:VEVENT
BEGIN:VEVENT
DTSTART;TZID=America/Toronto:20260726T100000
DTEND;TZID=America/Toronto:20260726T110000
DTSTAMP:20260419T131542
CREATED:20260219T144434Z
LAST-MODIFIED:20260419T132605Z
UID:10000470-1785060000-1785063600@centralchurchcambridge.ca
SUMMARY:Service of Worship
DESCRIPTION:Please join us for our Service of Worship. Each Sunday\, we come together to celebrate the love of God and to learn about living a Christian life in our modern World.
URL:https://centralchurchcambridge.ca/event/service-of-worship-24/
LOCATION:Central Presbyterian Church\, 7 Queens Square\, Cambridge\, ON N1S 1H4\, Canada
CATEGORIES:Google
END:VEVENT
BEGIN:VEVENT
DTSTART;TZID=America/Toronto:20260727T170000
DTEND;TZID=America/Toronto:20260727T180000
DTSTAMP:20260419T131542
CREATED:20260219T144436Z
LAST-MODIFIED:20260419T132606Z
UID:10000471-1785171600-1785175200@centralchurchcambridge.ca
SUMMARY:Christian Education
DESCRIPTION:
URL:https://centralchurchcambridge.ca/event/christian-education-6/
LOCATION:Central Church-Main Floor-Parlour (20)
CATEGORIES:Google
END:VEVENT
BEGIN:VEVENT
DTSTART;TZID=America/Toronto:20260727T190000
DTEND;TZID=America/Toronto:20260727T200000
DTSTAMP:20260419T131542
CREATED:20260219T144438Z
LAST-MODIFIED:20260419T132606Z
UID:10000472-1785178800-1785182400@centralchurchcambridge.ca
SUMMARY:Board of Managers
DESCRIPTION:
URL:https://centralchurchcambridge.ca/event/board-of-managers-6/
CATEGORIES:Google
END:VEVENT
BEGIN:VEVENT
DTSTART;TZID=America/Toronto:20260728T093000
DTEND;TZID=America/Toronto:20260728T120000
DTSTAMP:20260419T131542
CREATED:20260219T144439Z
LAST-MODIFIED:20260419T132607Z
UID:10000473-1785231000-1785240000@centralchurchcambridge.ca
SUMMARY:Communications Team
DESCRIPTION:
URL:https://centralchurchcambridge.ca/event/communications-team-12/
LOCATION:Central Church-Main Floor-Parlour (20)
CATEGORIES:Google
END:VEVENT
BEGIN:VEVENT
DTSTART;TZID=America/Toronto:20260728T143000
DTEND;TZID=America/Toronto:20260728T163000
DTSTAMP:20260419T131542
CREATED:20260219T144440Z
LAST-MODIFIED:20260419T132608Z
UID:10000474-1785249000-1785256200@centralchurchcambridge.ca
SUMMARY:Prayer Group- Parlour
DESCRIPTION:Everyone is welcome to join us in the parlour for an evening of prayer.
URL:https://centralchurchcambridge.ca/event/prayer-group-parlour-25/
LOCATION:Central Presbyterian Church\, 7 Queens Square\, Cambridge\, ON N1S 1H4\, Canada\, Central Church-Main Floor-Parlour (20)
CATEGORIES:Google
END:VEVENT
BEGIN:VEVENT
DTSTART;TZID=America/Toronto:20260728T190000
DTEND;TZID=America/Toronto:20260728T210000
DTSTAMP:20260419T131542
CREATED:20260219T144442Z
LAST-MODIFIED:20260419T132608Z
UID:10000475-1785265200-1785272400@centralchurchcambridge.ca
SUMMARY:Praise Team (Sanctuary)
DESCRIPTION:
URL:https://centralchurchcambridge.ca/event/praise-team-sanctuary-24/
CATEGORIES:Google
END:VEVENT
BEGIN:VEVENT
DTSTART;TZID=America/Toronto:20260729T190000
DTEND;TZID=America/Toronto:20260729T203000
DTSTAMP:20260419T131542
CREATED:20260219T155526Z
LAST-MODIFIED:20260419T132609Z
UID:10000476-1785351600-1785357000@centralchurchcambridge.ca
SUMMARY:Worship Team Meet
DESCRIPTION:Join with Google Meet: https://meet.google.com/tif-pmdp-vgi\nOr dial: (CA) +1 778-746-9630 PIN: 238118338#\nMore phone numbers: https://tel.meet/tif-pmdp-vgi?pin=2309717465871&hs=7\nLearn more about Meet at: https://support.google.com/a/users/answer/9282720
URL:https://centralchurchcambridge.ca/event/worship-team-meet-3/
LOCATION:Central Church-Main Floor-Parlour (20)
CATEGORIES:Google
END:VEVENT
END:VCALENDAR